﻿BEGIN:VCALENDAR
VERSION:2.0
PRODID:-//GHCR - ECPv5.8.0//NONSGML v1.0//EN
CALSCALE:GREGORIAN
METHOD:PUBLISH
X-WR-CALNAME:GHCR
X-ORIGINAL-URL:https://ghcr.be
X-WR-CALDESC:évènements pour GHCR
BEGIN:VTIMEZONE
TZID:Europe/Brussels
BEGIN:DAYLIGHT
TZOFFSETFROM:+0100
TZOFFSETTO:+0200
TZNAME:CEST
DTSTART:20210328T010000
END:DAYLIGHT
BEGIN:STANDARD
TZOFFSETFROM:+0200
TZOFFSETTO:+0100
TZNAME:CET
DTSTART:20211031T010000
END:STANDARD
END:VTIMEZONE
BEGIN:VEVENT
DTSTART;VALUE=DATE:20210903
DTEND;VALUE=DATE:20210906
DTSTAMP:20260420T223509
CREATED:20210701T141202Z
LAST-MODIFIED:20210901T065535Z
UID:2264-1630627200-1630886399@ghcr.be
SUMMARY:Ecuries de Happeau
DESCRIPTION:
URL:https://ghcr.be/calendrier/ecuries-de-happeau-2/
LOCATION:Ecurie de Happeau\, Belgique
CATEGORIES:Obstacles
ATTACH;FMTTYPE=image/jpeg:https://ghcr.be/wp-content/uploads/2021/07/happeau.jpg
END:VEVENT
BEGIN:VEVENT
DTSTART;VALUE=DATE:20210827
DTEND;VALUE=DATE:20210830
DTSTAMP:20260420T223509
CREATED:20210701T140626Z
LAST-MODIFIED:20210826T061317Z
UID:2258-1630022400-1630281599@ghcr.be
SUMMARY:Ecuries de Happeau
DESCRIPTION:
URL:https://ghcr.be/calendrier/ecuries-de-happeau/
LOCATION:Ecurie de Happeau\, Belgique
CATEGORIES:Obstacles
ATTACH;FMTTYPE=image/jpeg:https://ghcr.be/wp-content/uploads/2021/07/happeau.jpg
END:VEVENT
BEGIN:VEVENT
DTSTART;VALUE=DATE:20210825
DTEND;VALUE=DATE:20210826
DTSTAMP:20260420T223509
CREATED:20210701T141038Z
LAST-MODIFIED:20210824T114154Z
UID:2262-1629849600-1629935999@ghcr.be
SUMMARY:Ecuries de Happeau Mémorial Musette
DESCRIPTION:
URL:https://ghcr.be/calendrier/ecuries-de-happeau-gp-musette/
LOCATION:Ecurie de Happeau\, Belgique
CATEGORIES:Obstacles
ATTACH;FMTTYPE=image/jpeg:https://ghcr.be/wp-content/uploads/2021/08/10929957_10205807099762676_1868663930530959335_n.jpg
END:VEVENT
BEGIN:VEVENT
DTSTART;VALUE=DATE:20210604
DTEND;VALUE=DATE:20210607
DTSTAMP:20260420T223509
CREATED:20210517T030416Z
LAST-MODIFIED:20210624T231928Z
UID:1926-1622764800-1623023999@ghcr.be
SUMMARY:Obstacles - Ecurie de Happeau - Annulé Covid
DESCRIPTION:Description de l’évènement ou présentation.
URL:https://ghcr.be/calendrier/01/
LOCATION:Ecurie de Happeau\, Belgique
CATEGORIES:Obstacles
END:VEVENT
END:VCALENDAR