﻿BEGIN:VCALENDAR
VERSION:2.0
PRODID:-//GHCR - ECPv5.8.0//NONSGML v1.0//EN
CALSCALE:GREGORIAN
METHOD:PUBLISH
X-WR-CALNAME:GHCR
X-ORIGINAL-URL:https://ghcr.be
X-WR-CALDESC:évènements pour GHCR
BEGIN:VTIMEZONE
TZID:Europe/Brussels
BEGIN:DAYLIGHT
TZOFFSETFROM:+0100
TZOFFSETTO:+0200
TZNAME:CEST
DTSTART:20250330T010000
END:DAYLIGHT
BEGIN:STANDARD
TZOFFSETFROM:+0200
TZOFFSETTO:+0100
TZNAME:CET
DTSTART:20251026T010000
END:STANDARD
END:VTIMEZONE
BEGIN:VEVENT
DTSTART;VALUE=DATE:20250529
DTEND;VALUE=DATE:20250602
DTSTAMP:20260421T135713
CREATED:20250410T132532Z
LAST-MODIFIED:20250528T064220Z
UID:5220-1748476800-1748822399@ghcr.be
SUMMARY:C.A.S.
DESCRIPTION:
URL:https://ghcr.be/calendrier/c-a-s/
CATEGORIES:Obstacles
ATTACH;FMTTYPE=image/jpeg:https://ghcr.be/wp-content/uploads/2022/03/cas.jpg
END:VEVENT
BEGIN:VEVENT
DTSTART;VALUE=DATE:20250607
DTEND;VALUE=DATE:20250610
DTSTAMP:20260421T135713
CREATED:20250411T123337Z
LAST-MODIFIED:20250604T143836Z
UID:5225-1749254400-1749513599@ghcr.be
SUMMARY:Haras du Roua
DESCRIPTION:
URL:https://ghcr.be/calendrier/haras-du-roua-15/
CATEGORIES:Obstacles
ATTACH;FMTTYPE=image/jpeg:https://ghcr.be/wp-content/uploads/2022/05/harasrivage2b.jpg
END:VEVENT
BEGIN:VEVENT
DTSTART;VALUE=DATE:20250613
DTEND;VALUE=DATE:20250616
DTSTAMP:20260421T135713
CREATED:20250602T074240Z
LAST-MODIFIED:20250611T124909Z
UID:5315-1749772800-1750031999@ghcr.be
SUMMARY:Coupe Des Brabant - Haras de Bornival
DESCRIPTION:
URL:https://ghcr.be/calendrier/coupe-des-brabant-haras-de-bornival/
CATEGORIES:Obstacles
ATTACH;FMTTYPE=image/jpeg:https://ghcr.be/wp-content/uploads/2021/06/podium.jpg
END:VEVENT
BEGIN:VEVENT
DTSTART;VALUE=DATE:20250620
DTEND;VALUE=DATE:20250623
DTSTAMP:20260421T135713
CREATED:20250516T075439Z
LAST-MODIFIED:20250618T093127Z
UID:5281-1750377600-1750636799@ghcr.be
SUMMARY:Haras de Bornival
DESCRIPTION:
URL:https://ghcr.be/calendrier/haras-de-bornival-6/
CATEGORIES:Obstacles
ATTACH;FMTTYPE=image/jpeg:https://ghcr.be/wp-content/uploads/2022/01/bornival.jpg
END:VEVENT
BEGIN:VEVENT
DTSTART;VALUE=DATE:20250628
DTEND;VALUE=DATE:20250630
DTSTAMP:20260421T135713
CREATED:20250602T074505Z
LAST-MODIFIED:20250625T063541Z
UID:5317-1751068800-1751241599@ghcr.be
SUMMARY:C. E. des Jonquières
DESCRIPTION:
URL:https://ghcr.be/calendrier/c-e-des-jonquieres-2/
CATEGORIES:Obstacles
ATTACH;FMTTYPE=image/jpeg:https://ghcr.be/wp-content/uploads/2021/06/cavalor-jonquieres-scaled.jpg
END:VEVENT
BEGIN:VEVENT
DTSTART;VALUE=DATE:20250629
DTEND;VALUE=DATE:20250630
DTSTAMP:20260421T135713
CREATED:20250321T082917Z
LAST-MODIFIED:20250625T063347Z
UID:5185-1751155200-1751241599@ghcr.be
SUMMARY:Haras du Roua - 1ière manche Critérium et Championnat
DESCRIPTION:
URL:https://ghcr.be/calendrier/haras-du-roua-1iere-manche-criterium-et-championnat/
CATEGORIES:Dressage
ATTACH;FMTTYPE=image/jpeg:https://ghcr.be/wp-content/uploads/2021/06/podium.jpg
END:VEVENT
END:VCALENDAR