﻿BEGIN:VCALENDAR
VERSION:2.0
PRODID:-//GHCR - ECPv5.8.0//NONSGML v1.0//EN
CALSCALE:GREGORIAN
METHOD:PUBLISH
X-WR-CALNAME:GHCR
X-ORIGINAL-URL:https://ghcr.be
X-WR-CALDESC:évènements pour GHCR
BEGIN:VTIMEZONE
TZID:Europe/Brussels
BEGIN:DAYLIGHT
TZOFFSETFROM:+0100
TZOFFSETTO:+0200
TZNAME:CEST
DTSTART:20250330T010000
END:DAYLIGHT
BEGIN:STANDARD
TZOFFSETFROM:+0200
TZOFFSETTO:+0100
TZNAME:CET
DTSTART:20251026T010000
END:STANDARD
END:VTIMEZONE
BEGIN:VEVENT
DTSTART;VALUE=DATE:20250404
DTEND;VALUE=DATE:20250407
DTSTAMP:20260421T112302
CREATED:20250221T142101Z
LAST-MODIFIED:20250401T125455Z
UID:5113-1743724800-1743983999@ghcr.be
SUMMARY:E.P.E.E. Gesves
DESCRIPTION:
URL:https://ghcr.be/calendrier/e-p-e-e-gesves-4/
CATEGORIES:Obstacles
ATTACH;FMTTYPE=image/jpeg:https://ghcr.be/wp-content/uploads/2025/02/epeeg-pt-e1741269686687.jpg
END:VEVENT
BEGIN:VEVENT
DTSTART;VALUE=DATE:20250406
DTEND;VALUE=DATE:20250407
DTSTAMP:20260421T112302
CREATED:20250221T142654Z
LAST-MODIFIED:20250401T125545Z
UID:5116-1743897600-1743983999@ghcr.be
SUMMARY:E.P.E.E. Gesves
DESCRIPTION:
URL:https://ghcr.be/calendrier/e-p-e-e-gesves-5/
CATEGORIES:Dressage
ATTACH;FMTTYPE=image/jpeg:https://ghcr.be/wp-content/uploads/2025/02/epeeg.jpg
END:VEVENT
BEGIN:VEVENT
DTSTART;VALUE=DATE:20250412
DTEND;VALUE=DATE:20250414
DTSTAMP:20260421T112302
CREATED:20250221T145117Z
LAST-MODIFIED:20250409T070225Z
UID:5120-1744416000-1744588799@ghcr.be
SUMMARY:Haras du Roua
DESCRIPTION:
URL:https://ghcr.be/calendrier/haras-du-roua-13/
CATEGORIES:Obstacles
ATTACH;FMTTYPE=image/jpeg:https://ghcr.be/wp-content/uploads/2022/05/harasrivage2b.jpg
END:VEVENT
BEGIN:VEVENT
DTSTART;VALUE=DATE:20250419
DTEND;VALUE=DATE:20250422
DTSTAMP:20260421T112302
CREATED:20250306T133858Z
LAST-MODIFIED:20250416T071513Z
UID:5140-1745020800-1745279999@ghcr.be
SUMMARY:Ecuries de Happeau
DESCRIPTION:
URL:https://ghcr.be/calendrier/ecuries-de-happeau-10/
CATEGORIES:Obstacles
ATTACH;FMTTYPE=image/jpeg:https://ghcr.be/wp-content/uploads/2021/07/happeau.jpg
END:VEVENT
BEGIN:VEVENT
DTSTART;VALUE=DATE:20250426
DTEND;VALUE=DATE:20250428
DTSTAMP:20260421T112302
CREATED:20250307T103621Z
LAST-MODIFIED:20250410T130034Z
UID:5152-1745625600-1745798399@ghcr.be
SUMMARY:C.VH. - Annulé
DESCRIPTION:
URL:https://ghcr.be/calendrier/c-vh-2/
CATEGORIES:Obstacles
ATTACH;FMTTYPE=image/jpeg:https://ghcr.be/wp-content/uploads/2021/09/cvh3.jpg
END:VEVENT
BEGIN:VEVENT
DTSTART;VALUE=DATE:20250427
DTEND;VALUE=DATE:20250428
DTSTAMP:20260421T112302
CREATED:20250307T134523Z
LAST-MODIFIED:20250423T080000Z
UID:5154-1745712000-1745798399@ghcr.be
SUMMARY:Ecuries Bucéphale
DESCRIPTION:
URL:https://ghcr.be/calendrier/ecuries-bucephale/
CATEGORIES:Dressage
ATTACH;FMTTYPE=image/jpeg:https://ghcr.be/wp-content/uploads/2025/03/bucephale.jpg
END:VEVENT
END:VCALENDAR