﻿BEGIN:VCALENDAR
VERSION:2.0
PRODID:-//GHCR - ECPv5.8.0//NONSGML v1.0//EN
CALSCALE:GREGORIAN
METHOD:PUBLISH
X-WR-CALNAME:GHCR
X-ORIGINAL-URL:https://ghcr.be
X-WR-CALDESC:évènements pour GHCR
BEGIN:VTIMEZONE
TZID:Europe/Brussels
BEGIN:DAYLIGHT
TZOFFSETFROM:+0100
TZOFFSETTO:+0200
TZNAME:CEST
DTSTART:20210328T010000
END:DAYLIGHT
BEGIN:STANDARD
TZOFFSETFROM:+0200
TZOFFSETTO:+0100
TZNAME:CET
DTSTART:20211031T010000
END:STANDARD
END:VTIMEZONE
BEGIN:VEVENT
DTSTART;VALUE=DATE:20211002
DTEND;VALUE=DATE:20211004
DTSTAMP:20260420T160544
CREATED:20210902T125129Z
LAST-MODIFIED:20211001T093103Z
UID:2592-1633132800-1633305599@ghcr.be
SUMMARY:C.V.H.
DESCRIPTION:
URL:https://ghcr.be/calendrier/c-v-h/
CATEGORIES:Obstacles
ATTACH;FMTTYPE=image/jpeg:https://ghcr.be/wp-content/uploads/2021/09/cvh3.jpg
END:VEVENT
BEGIN:VEVENT
DTSTART;VALUE=DATE:20211009
DTEND;VALUE=DATE:20211011
DTSTAMP:20260420T160544
CREATED:20210913T090438Z
LAST-MODIFIED:20211006T090701Z
UID:2633-1633737600-1633910399@ghcr.be
SUMMARY:Manège des Foins Inter Cercles
DESCRIPTION:
URL:https://ghcr.be/calendrier/manege-des-foins-inter-cercles/
CATEGORIES:Obstacles
ATTACH;FMTTYPE=image/jpeg:https://ghcr.be/wp-content/uploads/2021/07/39148095_2071167649802220_8230155566845001728_n.jpg
END:VEVENT
BEGIN:VEVENT
DTSTART;VALUE=DATE:20211010
DTEND;VALUE=DATE:20211011
DTSTAMP:20260420T160544
CREATED:20210701T141829Z
LAST-MODIFIED:20211007T080831Z
UID:2276-1633824000-1633910399@ghcr.be
SUMMARY:L.N.S.
DESCRIPTION:
URL:https://ghcr.be/calendrier/l-n-s/
LOCATION:L.N.S.
CATEGORIES:Dressage
ATTACH;FMTTYPE=image/jpeg:https://ghcr.be/wp-content/uploads/2021/07/lns.jpg
END:VEVENT
BEGIN:VEVENT
DTSTART;VALUE=DATE:20211017
DTEND;VALUE=DATE:20211018
DTSTAMP:20260420T160544
CREATED:20210701T142035Z
LAST-MODIFIED:20211016T203845Z
UID:2280-1634428800-1634515199@ghcr.be
SUMMARY:Les Ecuries Bucephale
DESCRIPTION:
URL:https://ghcr.be/calendrier/les-ecuries-bucephale/
LOCATION:Les écuries Bucephale\, Belgique
CATEGORIES:Dressage
ATTACH;FMTTYPE=image/jpeg:https://ghcr.be/wp-content/uploads/2021/07/nat.jpg
END:VEVENT
BEGIN:VEVENT
DTSTART;VALUE=DATE:20211023
DTEND;VALUE=DATE:20211025
DTSTAMP:20260420T160544
CREATED:20210923T125434Z
LAST-MODIFIED:20211020T094822Z
UID:2677-1634947200-1635119999@ghcr.be
SUMMARY:Gesves Gala de Cloture
DESCRIPTION:
URL:https://ghcr.be/calendrier/gesves-gala-de-cloture/
CATEGORIES:Obstacles
ATTACH;FMTTYPE=image/jpeg:https://ghcr.be/wp-content/uploads/2021/09/gala.jpg
END:VEVENT
BEGIN:VEVENT
DTSTART;VALUE=DATE:20211024
DTEND;VALUE=DATE:20211025
DTSTAMP:20260420T160544
CREATED:20210923T125551Z
LAST-MODIFIED:20211021T061742Z
UID:2680-1635033600-1635119999@ghcr.be
SUMMARY:Gesves Gala de Cloture
DESCRIPTION:
URL:https://ghcr.be/calendrier/gesves-gala-de-cloture-2/
CATEGORIES:Dressage
ATTACH;FMTTYPE=image/jpeg:https://ghcr.be/wp-content/uploads/2021/09/gala.jpg
END:VEVENT
END:VCALENDAR