﻿BEGIN:VCALENDAR
VERSION:2.0
PRODID:-//GHCR - ECPv5.8.0//NONSGML v1.0//EN
CALSCALE:GREGORIAN
METHOD:PUBLISH
X-WR-CALNAME:GHCR
X-ORIGINAL-URL:https://ghcr.be
X-WR-CALDESC:évènements pour GHCR
BEGIN:VTIMEZONE
TZID:Europe/Brussels
BEGIN:DAYLIGHT
TZOFFSETFROM:+0100
TZOFFSETTO:+0200
TZNAME:CEST
DTSTART:20230326T010000
END:DAYLIGHT
BEGIN:STANDARD
TZOFFSETFROM:+0200
TZOFFSETTO:+0100
TZNAME:CET
DTSTART:20231029T010000
END:STANDARD
END:VTIMEZONE
BEGIN:VEVENT
DTSTART;VALUE=DATE:20230618
DTEND;VALUE=DATE:20230619
DTSTAMP:20260419T232041
CREATED:20230531T123652Z
LAST-MODIFIED:20230531T123652Z
UID:4191-1687046400-1687132799@ghcr.be
SUMMARY:Les Ecuries de Maret
DESCRIPTION:
URL:https://ghcr.be/calendrier/les-ecuries-de-maret-4/
CATEGORIES:Dressage
ATTACH;FMTTYPE=image/jpeg:https://ghcr.be/wp-content/uploads/2022/03/maret2.jpg
END:VEVENT
END:VCALENDAR