﻿BEGIN:VCALENDAR
VERSION:2.0
PRODID:-//GHCR - ECPv5.8.0//NONSGML v1.0//EN
CALSCALE:GREGORIAN
METHOD:PUBLISH
X-WR-CALNAME:GHCR
X-ORIGINAL-URL:https://ghcr.be
X-WR-CALDESC:évènements pour GHCR
BEGIN:VTIMEZONE
TZID:Europe/Brussels
BEGIN:DAYLIGHT
TZOFFSETFROM:+0100
TZOFFSETTO:+0200
TZNAME:CEST
DTSTART:20220327T010000
END:DAYLIGHT
BEGIN:STANDARD
TZOFFSETFROM:+0200
TZOFFSETTO:+0100
TZNAME:CET
DTSTART:20221030T010000
END:STANDARD
END:VTIMEZONE
BEGIN:VEVENT
DTSTART;VALUE=DATE:20220422
DTEND;VALUE=DATE:20220425
DTSTAMP:20260420T095109
CREATED:20220316T091123Z
LAST-MODIFIED:20220421T055531Z
UID:3103-1650585600-1650844799@ghcr.be
SUMMARY:Chapelle aux Sabots
DESCRIPTION:
URL:https://ghcr.be/calendrier/chapelle-aux-sabots/
CATEGORIES:Obstacles
ATTACH;FMTTYPE=image/jpeg:https://ghcr.be/wp-content/uploads/2022/03/cas.jpg
END:VEVENT
BEGIN:VEVENT
DTSTART;VALUE=DATE:20220424
DTEND;VALUE=DATE:20220425
DTSTAMP:20260420T095109
CREATED:20220302T125906Z
LAST-MODIFIED:20220421T073044Z
UID:3058-1650758400-1650844799@ghcr.be
SUMMARY:L.N.S.
DESCRIPTION:
URL:https://ghcr.be/calendrier/l-n-s-2/
CATEGORIES:Dressage
ATTACH;FMTTYPE=image/jpeg:https://ghcr.be/wp-content/uploads/2022/03/Lord-Newcastle-2..jpeg
END:VEVENT
END:VCALENDAR