﻿BEGIN:VCALENDAR
VERSION:2.0
PRODID:-//GHCR - ECPv5.8.0//NONSGML v1.0//EN
CALSCALE:GREGORIAN
METHOD:PUBLISH
X-WR-CALNAME:GHCR
X-ORIGINAL-URL:https://ghcr.be
X-WR-CALDESC:évènements pour GHCR
BEGIN:VTIMEZONE
TZID:Europe/Brussels
BEGIN:DAYLIGHT
TZOFFSETFROM:+0100
TZOFFSETTO:+0200
TZNAME:CEST
DTSTART:20220327T010000
END:DAYLIGHT
BEGIN:STANDARD
TZOFFSETFROM:+0200
TZOFFSETTO:+0100
TZNAME:CET
DTSTART:20221030T010000
END:STANDARD
END:VTIMEZONE
BEGIN:VEVENT
DTSTART;VALUE=DATE:20220401
DTEND;VALUE=DATE:20220404
DTSTAMP:20260420T095119
CREATED:20220124T081957Z
LAST-MODIFIED:20220330T072033Z
UID:3021-1648771200-1649030399@ghcr.be
SUMMARY:Haras de Bornival
DESCRIPTION:
URL:https://ghcr.be/calendrier/haras-de-bornival/
CATEGORIES:Obstacles
ATTACH;FMTTYPE=image/jpeg:https://ghcr.be/wp-content/uploads/2022/01/bornival.jpg
END:VEVENT
BEGIN:VEVENT
DTSTART;VALUE=DATE:20220403
DTEND;VALUE=DATE:20220404
DTSTAMP:20260420T095119
CREATED:20220124T083934Z
LAST-MODIFIED:20220331T062116Z
UID:3030-1648944000-1649030399@ghcr.be
SUMMARY:Manège des Foins
DESCRIPTION:
URL:https://ghcr.be/calendrier/manege-des-foins-3/
CATEGORIES:Dressage
ATTACH;FMTTYPE=image/jpeg:https://ghcr.be/wp-content/uploads/2021/07/39148095_2071167649802220_8230155566845001728_n.jpg
END:VEVENT
END:VCALENDAR